BEGIN:VCALENDAR
VERSION:2.0
PRODID:-//Players Club - ECPv6.15.14//NONSGML v1.0//EN
CALSCALE:GREGORIAN
METHOD:PUBLISH
X-ORIGINAL-URL:https://playersclub.mariasnailsandbeauty.com
X-WR-CALDESC:Events for Players Club
REFRESH-INTERVAL;VALUE=DURATION:PT1H
X-Robots-Tag:noindex
X-PUBLISHED-TTL:PT1H
BEGIN:VTIMEZONE
TZID:UTC
BEGIN:STANDARD
TZOFFSETFROM:+0000
TZOFFSETTO:+0000
TZNAME:UTC
DTSTART:20240101T000000
END:STANDARD
END:VTIMEZONE
BEGIN:VEVENT
DTSTART;TZID=UTC:20250611T080000
DTEND;TZID=UTC:20250723T170000
DTSTAMP:20260419T174854
CREATED:20250603T122413Z
LAST-MODIFIED:20250603T124253Z
UID:28177-1749628800-1753290000@playersclub.mariasnailsandbeauty.com
SUMMARY:Playersclub Open 2025
DESCRIPTION:Step onto the green for the most anticipated golf event of the year! The Playersclub Open brings together amateurs and seasoned golfers in a thrilling competition of skill\, focus\, and finesse. Enjoy a full day of golfing excellence\, exclusive networking\, premium hospitality\, and unforgettable moments on the course.
URL:https://playersclub.mariasnailsandbeauty.com/event/playersclub-open-2025/
CATEGORIES:Seminar
ATTACH;FMTTYPE=image/jpeg:https://playersclub.mariasnailsandbeauty.com/wp-content/uploads/2025/06/Mask-group-4.jpg
END:VEVENT
BEGIN:VEVENT
DTSTART;TZID=UTC:20250604T080000
DTEND;TZID=UTC:20250629T170000
DTSTAMP:20260419T174854
CREATED:20250603T122659Z
LAST-MODIFIED:20250603T122659Z
UID:28194-1749024000-1751216400@playersclub.mariasnailsandbeauty.com
SUMMARY:Swing Masters Tournament
DESCRIPTION:Step onto the green for the most anticipated golf event of the year! The Playersclub Open brings together amateurs and seasoned golfers in a thrilling competition of skill\, focus\, and finesse. Enjoy a full day of golfing excellence\, exclusive networking\, premium hospitality\, and unforgettable moments on the course.
URL:https://playersclub.mariasnailsandbeauty.com/event/swing-masters-tournament/
CATEGORIES:Seminar
ATTACH;FMTTYPE=image/png:https://playersclub.mariasnailsandbeauty.com/wp-content/uploads/2025/06/Mask-group-5.png
END:VEVENT
BEGIN:VEVENT
DTSTART;TZID=UTC:20250604T080000
DTEND;TZID=UTC:20250625T170000
DTSTAMP:20260419T174854
CREATED:20250603T122834Z
LAST-MODIFIED:20250603T122834Z
UID:28197-1749024000-1750870800@playersclub.mariasnailsandbeauty.com
SUMMARY:Golf & Glory Invitational
DESCRIPTION:Step onto the green for the most anticipated golf event of the year! The Playersclub Open brings together amateurs and seasoned golfers in a thrilling competition of skill\, focus\, and finesse. Enjoy a full day of golfing excellence\, exclusive networking\, premium hospitality\, and unforgettable moments on the course.
URL:https://playersclub.mariasnailsandbeauty.com/event/golf-glory-invitational/
CATEGORIES:Seminar
ATTACH;FMTTYPE=image/png:https://playersclub.mariasnailsandbeauty.com/wp-content/uploads/2025/06/Mask-group-6.png
END:VEVENT
END:VCALENDAR